BEGIN:VCALENDAR
VERSION:2.0
PRODID:-//Montenegrin Guitar Duo - ECPv6.15.20//NONSGML v1.0//EN
CALSCALE:GREGORIAN
METHOD:PUBLISH
X-WR-CALNAME:Montenegrin Guitar Duo
X-ORIGINAL-URL:https://montenegringuitarduo.com
X-WR-CALDESC:Events for Montenegrin Guitar Duo
REFRESH-INTERVAL;VALUE=DURATION:PT1H
X-Robots-Tag:noindex
X-PUBLISHED-TTL:PT1H
BEGIN:VTIMEZONE
TZID:Europe/London
BEGIN:DAYLIGHT
TZOFFSETFROM:+0000
TZOFFSETTO:+0100
TZNAME:BST
DTSTART:20170326T010000
END:DAYLIGHT
BEGIN:STANDARD
TZOFFSETFROM:+0100
TZOFFSETTO:+0000
TZNAME:GMT
DTSTART:20171029T010000
END:STANDARD
BEGIN:DAYLIGHT
TZOFFSETFROM:+0000
TZOFFSETTO:+0100
TZNAME:BST
DTSTART:20180325T010000
END:DAYLIGHT
BEGIN:STANDARD
TZOFFSETFROM:+0100
TZOFFSETTO:+0000
TZNAME:GMT
DTSTART:20181028T010000
END:STANDARD
BEGIN:DAYLIGHT
TZOFFSETFROM:+0000
TZOFFSETTO:+0100
TZNAME:BST
DTSTART:20190331T010000
END:DAYLIGHT
BEGIN:STANDARD
TZOFFSETFROM:+0100
TZOFFSETTO:+0000
TZNAME:GMT
DTSTART:20191027T010000
END:STANDARD
BEGIN:DAYLIGHT
TZOFFSETFROM:+0000
TZOFFSETTO:+0100
TZNAME:BST
DTSTART:20200329T010000
END:DAYLIGHT
BEGIN:STANDARD
TZOFFSETFROM:+0100
TZOFFSETTO:+0000
TZNAME:GMT
DTSTART:20201025T010000
END:STANDARD
BEGIN:DAYLIGHT
TZOFFSETFROM:+0000
TZOFFSETTO:+0100
TZNAME:BST
DTSTART:20210328T010000
END:DAYLIGHT
BEGIN:STANDARD
TZOFFSETFROM:+0100
TZOFFSETTO:+0000
TZNAME:GMT
DTSTART:20211031T010000
END:STANDARD
BEGIN:DAYLIGHT
TZOFFSETFROM:+0000
TZOFFSETTO:+0100
TZNAME:BST
DTSTART:20220327T010000
END:DAYLIGHT
BEGIN:STANDARD
TZOFFSETFROM:+0100
TZOFFSETTO:+0000
TZNAME:GMT
DTSTART:20221030T010000
END:STANDARD
BEGIN:DAYLIGHT
TZOFFSETFROM:+0000
TZOFFSETTO:+0100
TZNAME:BST
DTSTART:20230326T010000
END:DAYLIGHT
BEGIN:STANDARD
TZOFFSETFROM:+0100
TZOFFSETTO:+0000
TZNAME:GMT
DTSTART:20231029T010000
END:STANDARD
BEGIN:DAYLIGHT
TZOFFSETFROM:+0000
TZOFFSETTO:+0100
TZNAME:BST
DTSTART:20240331T010000
END:DAYLIGHT
BEGIN:STANDARD
TZOFFSETFROM:+0100
TZOFFSETTO:+0000
TZNAME:GMT
DTSTART:20241027T010000
END:STANDARD
END:VTIMEZONE
BEGIN:VTIMEZONE
TZID:UTC
BEGIN:STANDARD
TZOFFSETFROM:+0000
TZOFFSETTO:+0000
TZNAME:UTC
DTSTART:20170101T000000
END:STANDARD
END:VTIMEZONE
BEGIN:VEVENT
DTSTART;TZID=Europe/London:20230321T190000
DTEND;TZID=Europe/London:20230321T190000
DTSTAMP:20260423T105503
CREATED:20221118T041209Z
LAST-MODIFIED:20230227T195006Z
UID:53170-1679425200-1679425200@montenegringuitarduo.com
SUMMARY:Asociación Musical Fernando Sor: Madrid
DESCRIPTION:Johann Sebastian Bach\, arr. Montenegrin Guitar Duo: English Suite no. 6 in D minor\, BWV 811Fernando Sor: L’Encouragement\, op. 34Astor Piazzolla\, arr. Sergio Assad: Suite TroileanaManuel De Falla: Danza del MolineroManuel De Falla: Danza Ritual del Fuego
URL:https://montenegringuitarduo.com/tour-date/asociacion-musical-fernando-sor-madrid/
LOCATION:Real Casino de Madrid (Salón Príncipe)\, Alcalá street nº 15:\, Madrid\, 28014 Madrid\, Spain
CATEGORIES:Montenegrin Guitar Duo
ATTACH;FMTTYPE=image/jpeg:https://montenegringuitarduo.com/wp-content/uploads/2021/08/Montenegrin_Guitar_Duo_please_credit_Shayne_Gray_ref_2-voMXjB.tmp_.jpg
END:VEVENT
BEGIN:VEVENT
DTSTART;TZID=Europe/London:20230121T190000
DTEND;TZID=Europe/London:20230121T190000
DTSTAMP:20260423T105503
CREATED:20221223T084741Z
LAST-MODIFIED:20230121T130418Z
UID:53211-1674327600-1674327600@montenegringuitarduo.com
SUMMARY:Erlanger Musikinstitut: Middle Franconia\, Bavaria
DESCRIPTION:Johann Sebastian Bach\, arr. Montenegrin Guitar Duo: English Suite no. 3 in G Minor\, BWV 808\nAstor Piazzolla\, arr. Sergio Assad: Suite Troileana\nManuel De Falla: Danza del Molinero\nManuel De Falla: Danza Ritual del Fuego
URL:https://montenegringuitarduo.com/tour-date/erlanger-musikinstitut-middle-franconia-bavaria/
LOCATION:Erlanger Musikinstitut e.V.\, Rathsberger Str. 1-3\, Erlangen\, Middle Franconia\, Bavaria\, 91054 Erlangen\, Germany
CATEGORIES:Montenegrin Guitar Duo
ATTACH;FMTTYPE=image/jpeg:https://montenegringuitarduo.com/wp-content/uploads/2020/06/Montenegrin_Guitar_Duo_please_credit_Shayne_Gray_ref_web1.jpg
END:VEVENT
BEGIN:VEVENT
DTSTART;TZID=Europe/London:20221104T190000
DTEND;TZID=Europe/London:20221104T190000
DTSTAMP:20260423T105503
CREATED:20220902T165557Z
LAST-MODIFIED:20221104T022709Z
UID:53084-1667588400-1667588400@montenegringuitarduo.com
SUMMARY:Budapest Guitar Festival: Hungary
DESCRIPTION:Johann Sebastian Bach\, arr. Montenegrin Guitar Duo: English Suite no. 6 in D minor\, BWV 811Astor Piazzolla: Tango SuiteAstor Piazzolla\, arr. Nejc Kuhar: OblivionAstor Piazzolla\, arr. Sergio Assad: Suite TroileanaManuel De Falla: Danza del MolineroManuel De Falla: Danza Ritual del Fuego
URL:https://montenegringuitarduo.com/tour-date/budapest-guitar-festival-budepest/
LOCATION:Sir George Solti Hall\, Liszt Academy of Music Budapest\, Liszt sq. 8\, Budapest\, 1061 Hungary\, Hungary
CATEGORIES:Montenegrin Guitar Duo
ATTACH;FMTTYPE=image/jpeg:https://montenegringuitarduo.com/wp-content/uploads/2020/06/Montenegrin_Guitar_Duo_please_credit_Shayne_Gray_ref_web1.jpg
END:VEVENT
BEGIN:VEVENT
DTSTART;TZID=Europe/London:20220806T210000
DTEND;TZID=Europe/London:20220806T210000
DTSTAMP:20260423T105503
CREATED:20220527T100203Z
LAST-MODIFIED:20220806T160457Z
UID:52955-1659819600-1659819600@montenegringuitarduo.com
SUMMARY:Ohrid Summer Festival: North Macedonia
DESCRIPTION:Johann Sebastian Bach\, arr. Montenegrin Guitar Duo: English Suite no. 6 in D minor\, BWV 811Astor Piazzolla\, arr. Sergio Assad: Suite TroileanaManuel De Falla: Danza del MolineroManuel De Falla: Danza Ritual del Fuego
URL:https://montenegringuitarduo.com/tour-date/ohrid-summer-festival-north-macedonia/
LOCATION:Church Sophia\, Ohrid\, Tsar Samoil 88\, North Macedonia\, Ohrid 6000\, Macedonia
CATEGORIES:Montenegrin Guitar Duo
ATTACH;FMTTYPE=image/jpeg:https://montenegringuitarduo.com/wp-content/uploads/2020/06/Montenegrin_Guitar_Duo_please_credit_Shayne_Gray_ref_web1.jpg
END:VEVENT
BEGIN:VEVENT
DTSTART;TZID=Europe/London:20220626T160000
DTEND;TZID=Europe/London:20220626T160000
DTSTAMP:20260423T105503
CREATED:20220608T083824Z
LAST-MODIFIED:20220626T112111Z
UID:52976-1656259200-1656259200@montenegringuitarduo.com
SUMMARY:Stelzen Festival: Tanna
DESCRIPTION:Johann Sebastian Bach\, arr. Montenegrin Guitar Duo English Suite no. 6 in D minor\, BWV 811Astor Piazzolla\, arr. Sergio Assad Suite TroileanaManuel De Falla Danza del MolineroManuel De Falla Danza Ritual del Fuego
URL:https://montenegringuitarduo.com/tour-date/stelzen-festival-tanna/
LOCATION:Kirche Stelzen\, Tanna\, 07922 Tanna\, Germany
CATEGORIES:Montenegrin Guitar Duo
ATTACH;FMTTYPE=image/jpeg:https://montenegringuitarduo.com/wp-content/uploads/2020/06/Montenegrin_Guitar_Duo_please_credit_Shayne_Gray_ref_web1.jpg
END:VEVENT
BEGIN:VEVENT
DTSTART;TZID=Europe/London:20210828T200000
DTEND;TZID=Europe/London:20210828T200000
DTSTAMP:20260423T105503
CREATED:20210823T172055Z
LAST-MODIFIED:20210828T181950Z
UID:52546-1630180800-1630180800@montenegringuitarduo.com
SUMMARY:Razgueado Ljubljana: Ljubljana
DESCRIPTION:Bach English Suite no. 2 in A Minor\, BWV 807\, arr. Montenegrin Guitar Duo\nBach English Suite no. 6 in D minor\, BWV 811\, arr. Montenegrin Guitar Duo\nPiazzolla Suite Troileana\, arr. Sergio Assad\nPiazzolla Tango Suite \nPlease email or telephone to arrange a ticket\, as below.
URL:https://montenegringuitarduo.com/tour-date/razgueado-ljubljana-ljubljana/
LOCATION:National Museum of Contemporary History\, Llubljana\, Celovška cesta 23\, Ljubljana\, 1000 Ljubljana\, Slovenia
CATEGORIES:Montenegrin Guitar Duo
ATTACH;FMTTYPE=image/jpeg:https://montenegringuitarduo.com/wp-content/uploads/2020/06/Montenegrin_Guitar_Duo_please_credit_Shayne_Gray_ref_web1.jpg
ORGANIZER;CN="Razgueado Ljubljana":MAILTO:Rasgueado.ljubljana@gmail.com
END:VEVENT
BEGIN:VEVENT
DTSTART;VALUE=DATE:20210826
DTEND;VALUE=DATE:20210828
DTSTAMP:20260423T105503
CREATED:20210823T172054Z
LAST-MODIFIED:20210826T174913Z
UID:52542-1629936000-1630108799@montenegringuitarduo.com
SUMMARY:Academia Musicae Labacensis Guitar Festival: Ljubljana
DESCRIPTION:
URL:https://montenegringuitarduo.com/tour-date/academia-musicae-labacensis-guitar-festival-ljubljana/
LOCATION:Academy of Music\, University of Ljubljana\, Stari trg 34\, Ljubljana\, SI-1000 Ljubljana\, Slovenia
CATEGORIES:Montenegrin Guitar Duo
ATTACH;FMTTYPE=image/jpeg:https://montenegringuitarduo.com/wp-content/uploads/2021/08/Montenegrin_Guitar_Duo_please_credit_Shayne_Gray_ref_2-voMXjB.tmp_.jpg
END:VEVENT
BEGIN:VEVENT
DTSTART;TZID=Europe/London:20210626T190000
DTEND;TZID=Europe/London:20210626T190000
DTSTAMP:20260423T105503
CREATED:20210623T083631Z
LAST-MODIFIED:20210626T083443Z
UID:52477-1624734000-1624734000@montenegringuitarduo.com
SUMMARY:Montenegrin Music Center: Podgorica
DESCRIPTION:Bach English Suite no. 6 in D minor\, BWV 811\, arr. Montenegrin Guitar DuoPiazzolla Oblivion\, arr. Nejc KuharPiazzolla Suite Troileana\, arr. Sergio Assad
URL:https://montenegringuitarduo.com/tour-date/montenegrin-music-center-podgorica/
LOCATION:Chamber Hall\, Montenegrin Music Center\, V Proleterska 4/1\, Podgorica\, 81 000 Podgorica\, Montenegro
CATEGORIES:Montenegrin Guitar Duo
ATTACH;FMTTYPE=image/jpeg:https://montenegringuitarduo.com/wp-content/uploads/2020/06/Montenegrin_Guitar_Duo_please_credit_Shayne_Gray_ref_web1.jpg
END:VEVENT
BEGIN:VEVENT
DTSTART;VALUE=DATE:20200513
DTEND;VALUE=DATE:20200514
DTSTAMP:20260423T105503
CREATED:20200110T054348Z
LAST-MODIFIED:20200110T054348Z
UID:51497-1589328000-1589414399@montenegringuitarduo.com
SUMMARY:Aachen Guitar Festival: Cologne
DESCRIPTION:
URL:https://montenegringuitarduo.com/tour-date/aachen-guitar-festival-cologne/
LOCATION:Hochschule für Musik und Tanz Köln\, Cologne\, Germany
CATEGORIES:Montenegrin Guitar Duo
ATTACH;FMTTYPE=image/jpeg:https://montenegringuitarduo.com/wp-content/uploads/2019/03/Montenegrin_Guitar_Duo_please_credit_Shayne_Gray_ref_web1.jpg
END:VEVENT
BEGIN:VEVENT
DTSTART;TZID=Europe/London:20200307T180000
DTEND;TZID=Europe/London:20200307T180000
DTSTAMP:20260423T105503
CREATED:20200214T150256Z
LAST-MODIFIED:20200214T150256Z
UID:51534-1583604000-1583604000@montenegringuitarduo.com
SUMMARY:Martsicher Music Festival: Moldova
DESCRIPTION:Bach Prelude from English Suite no. 6 in D minor\, BWV 811\, arr. Montenegrin Guitar DuoPiazzolla Tango SuiteAssad Tahhiyya Li OssoulinaPiazzolla Suite Troileana\, arr. Sergio AssadDe Falla:La Vida BreveEl Círculo MágicoDanza Ritual del FuegoDanza del Molinero
URL:https://montenegringuitarduo.com/tour-date/martsicher-music-festival-moldova-3/
LOCATION:Chisinau Organ Hall\, bd. Stefan cel Mare y Sfânt\, 81\, Chisinau\, MD 2012\, Moldova\, Moldova
CATEGORIES:Montenegrin Guitar Duo
ATTACH;FMTTYPE=image/jpeg:https://montenegringuitarduo.com/wp-content/uploads/2019/03/Montenegrin_Guitar_Duo_please_credit_Shayne_Gray_ref_2.jpg
END:VEVENT
BEGIN:VEVENT
DTSTART;VALUE=DATE:20200307
DTEND;VALUE=DATE:20200308
DTSTAMP:20260423T105503
CREATED:20190926T234747Z
LAST-MODIFIED:20190926T234747Z
UID:51478-1583539200-1583625599@montenegringuitarduo.com
SUMMARY:Martsicher Music Festival: Moldova
DESCRIPTION:Bach Prelude from English Suite no. 6 in D minor\, BWV 811\, arr. Montenegrin Guitar Duo\nPiazzolla Tango Suite\nAssad Tahhiyya Li Ossoulina\nPiazzolla Suite Troileana\, arr. Sergio Assad\nDe Falla:\nLa Vida Breve\nEl Círculo Mágico\nDanza Ritual del Fuego\nDanza del Molinero
URL:https://montenegringuitarduo.com/tour-date/martsicher-music-festival-moldova-2/
LOCATION:Chisinau Organ Hall\, bd. Stefan cel Mare y Sfânt\, 81\, Chisinau\, MD 2012\, Moldova\, Moldova
CATEGORIES:Montenegrin Guitar Duo
ATTACH;FMTTYPE=image/jpeg:https://montenegringuitarduo.com/wp-content/uploads/2019/03/Montenegrin_Guitar_Duo_please_credit_Shayne_Gray_ref_web1.jpg
END:VEVENT
BEGIN:VEVENT
DTSTART;VALUE=DATE:20200306
DTEND;VALUE=DATE:20200307
DTSTAMP:20260423T105503
CREATED:20190926T234747Z
LAST-MODIFIED:20190926T234747Z
UID:51477-1583452800-1583539199@montenegringuitarduo.com
SUMMARY:Martsicher Music Festival: Moldova
DESCRIPTION:
URL:https://montenegringuitarduo.com/tour-date/martsicher-music-festival-moldova/
LOCATION:Chisinau\, Moldova
CATEGORIES:Montenegrin Guitar Duo
ATTACH;FMTTYPE=image/jpeg:https://montenegringuitarduo.com/wp-content/uploads/2019/03/Montenegrin_Guitar_Duo_please_credit_Shayne_Gray_ref_web1.jpg
END:VEVENT
BEGIN:VEVENT
DTSTART;TZID=Europe/London:20190913T200000
DTEND;TZID=Europe/London:20190913T200000
DTSTAMP:20260423T105503
CREATED:20190726T035819Z
LAST-MODIFIED:20190726T035819Z
UID:51408-1568404800-1568404800@montenegringuitarduo.com
SUMMARY:Michael Batell Guitars Presents: Berlin
DESCRIPTION:Bach Prelude from English Suite no. 6 in D minor\, BWV 811Piazzolla Suite TroileanaPiazzolla Tango SuiteDomeniconi Circus Music op. 54a for 2 guitars
URL:https://montenegringuitarduo.com/tour-date/michael-batell-guitars-presents-berlin/
LOCATION:Michael Batell Guitars Gallery\, Mariannenplatz 22\, 10997 Berlin-Kreuzberg\, Berlin\, Germany
CATEGORIES:Montenegrin Guitar Duo
ATTACH;FMTTYPE=image/jpeg:https://montenegringuitarduo.com/wp-content/uploads/2019/03/Montenegrin_Guitar_Duo_please_credit_Shayne_Gray_ref_web1.jpg
END:VEVENT
BEGIN:VEVENT
DTSTART;TZID=Europe/London:20190610T190000
DTEND;TZID=Europe/London:20190610T190000
DTSTAMP:20260423T105503
CREATED:20190319T083338Z
LAST-MODIFIED:20190319T083338Z
UID:51331-1560193200-1560193200@montenegringuitarduo.com
SUMMARY:Tallinn Guitar Festival: Tallinn
DESCRIPTION:Bach English Suite no. 4 in F major\, BWV 809\, arr. Montenegrin Guitar DuoBach English Suite no. 6 in D minor\, BWV 811\, arr. Montenegrin Guitar DuoPiazzolla Tango SuitePiazzolla Suite Troileana\, arr. Sergio Assad
URL:https://montenegringuitarduo.com/tour-date/tallinn-guitar-festival-tallinn-2/
LOCATION:House of the Blackheads\, Pikk 26\, 10133\, Tallinn\, Estonia
CATEGORIES:Montenegrin Guitar Duo
ATTACH;FMTTYPE=image/jpeg:https://montenegringuitarduo.com/wp-content/uploads/2019/03/Montenegrin_Guitar_Duo_please_credit_Shayne_Gray_ref_web1.jpg
END:VEVENT
BEGIN:VEVENT
DTSTART;VALUE=DATE:20190608
DTEND;VALUE=DATE:20190612
DTSTAMP:20260423T105503
CREATED:20180526T201353Z
LAST-MODIFIED:20180526T201353Z
UID:51004-1559952000-1560297599@montenegringuitarduo.com
SUMMARY:Tallinn Guitar Festival: Tallinn
DESCRIPTION:Jury members for Competition 8-9th June \n10th June – concert11th June Masterclasses 10.00 – 14:00
URL:https://montenegringuitarduo.com/tour-date/tallinn-guitar-festival-tallinn/
LOCATION:Tallinn\, Tallinn\, Estonia
CATEGORIES:Montenegrin Guitar Duo
ATTACH;FMTTYPE=image/jpeg:https://montenegringuitarduo.com/wp-content/uploads/2019/03/Montenegrin_Guitar_Duo_please_credit_Shayne_Gray_ref_2.jpg
END:VEVENT
BEGIN:VEVENT
DTSTART;TZID=Europe/London:20181208T200000
DTEND;TZID=Europe/London:20181208T220000
DTSTAMP:20260423T105503
CREATED:20181020T191148Z
LAST-MODIFIED:20181020T191148Z
UID:51170-1544299200-1544306400@montenegringuitarduo.com
SUMMARY:Teatar na Brdu: Belgrade
DESCRIPTION:
URL:https://montenegringuitarduo.com/tour-date/teatar-na-brdu-belgrade/
LOCATION:Teatar na Brdu\, Velika scena\, Turgenjevljeva 5\, Belgrade\, 11000 Belgrade\, Serbia
CATEGORIES:Montenegrin Guitar Duo
ATTACH;FMTTYPE=image/jpeg:https://montenegringuitarduo.com/wp-content/uploads/2018/10/Montenegrin_Guitar_Duo_please_credit_Shayne_Gray_ref_web1.jpg
END:VEVENT
BEGIN:VEVENT
DTSTART;TZID=Europe/London:20180723T140000
DTEND;TZID=Europe/London:20180723T160000
DTSTAMP:20260423T105503
CREATED:20180526T202523Z
LAST-MODIFIED:20180526T202523Z
UID:51014-1532354400-1532361600@montenegringuitarduo.com
SUMMARY:Qinling Mountains International Guitar Festival: Shaanxi Province
DESCRIPTION:Masterclass
URL:https://montenegringuitarduo.com/tour-date/qinling-mountains-international-guitar-festival-shaanxi-province-3/
LOCATION:Qinling\, Shaanxi Province\, China
CATEGORIES:Montenegrin Guitar Duo
END:VEVENT
BEGIN:VEVENT
DTSTART;TZID=Europe/London:20180722T193000
DTEND;TZID=Europe/London:20180722T213000
DTSTAMP:20260423T105503
CREATED:20180526T202523Z
LAST-MODIFIED:20180526T202523Z
UID:51013-1532287800-1532295000@montenegringuitarduo.com
SUMMARY:Qinling Mountains International Guitar Festival: Shaanxi Province
DESCRIPTION:Concert
URL:https://montenegringuitarduo.com/tour-date/qinling-mountains-international-guitar-festival-shaanxi-province-2/
LOCATION:Qinling\, Shaanxi Province\, China
CATEGORIES:Montenegrin Guitar Duo
END:VEVENT
BEGIN:VEVENT
DTSTART;VALUE=DATE:20180721
DTEND;VALUE=DATE:20180725
DTSTAMP:20260423T105503
CREATED:20180526T202522Z
LAST-MODIFIED:20180526T202522Z
UID:51012-1532131200-1532476799@montenegringuitarduo.com
SUMMARY:Qinling Mountains International Guitar Festival: Shaanxi Province
DESCRIPTION:
URL:https://montenegringuitarduo.com/tour-date/qinling-mountains-international-guitar-festival-shaanxi-province/
LOCATION:Qinling\, Shaanxi Province\, China
CATEGORIES:Montenegrin Guitar Duo
END:VEVENT
BEGIN:VEVENT
DTSTART;TZID=Europe/London:20180406T204500
DTEND;TZID=Europe/London:20180406T224500
DTSTAMP:20260423T105503
CREATED:20180201T132852Z
LAST-MODIFIED:20180201T132852Z
UID:50588-1523047500-1523054700@montenegringuitarduo.com
SUMMARY:Istanbul Classical Guitar Festival: Turkey
DESCRIPTION:
URL:https://montenegringuitarduo.com/tour-date/istanbul-classical-guitar-festival-turkey-2/
LOCATION:Caddebostan Kultur Merkezi\, Bagdat Cad. Haldun Taner Sok. No:11 Caddebostan\, Kadikoy\, Turkey\, Turkey
CATEGORIES:Montenegrin Guitar Duo
END:VEVENT
BEGIN:VEVENT
DTSTART;TZID=Europe/London:20180406T204500
DTEND;TZID=Europe/London:20180406T204500
DTSTAMP:20260423T105503
CREATED:20171210T215352Z
LAST-MODIFIED:20171210T215352Z
UID:50367-1523047500-1523047500@montenegringuitarduo.com
SUMMARY:Istanbul Classical Guitar Festival: Turkey
DESCRIPTION:
URL:https://montenegringuitarduo.com/tour-date/istanbul-classical-guitar-festival-turkey/
LOCATION:Caddebostan Kultur Merkezi\, Bagdat Cad. Haldun Taner Sok. No:11 Caddebostan\, Kadikoy\, Turkey\, Turkey
CATEGORIES:Montenegrin Guitar Duo
END:VEVENT
BEGIN:VEVENT
DTSTART;VALUE=DATE:20180218
DTEND;VALUE=DATE:20180219
DTSTAMP:20260423T105503
CREATED:20171210T215352Z
LAST-MODIFIED:20171210T215352Z
UID:50364-1518912000-1518998399@montenegringuitarduo.com
SUMMARY:Masterclass – California
DESCRIPTION:Masterclass
URL:https://montenegringuitarduo.com/tour-date/masterclass-california/
LOCATION:San Francisco\, California\, Belgium
CATEGORIES:Montenegrin Guitar Duo
END:VEVENT
BEGIN:VEVENT
DTSTART;TZID=UTC:20180217T190000
DTEND;TZID=UTC:20180217T210000
DTSTAMP:20260423T105503
CREATED:20171210T215351Z
LAST-MODIFIED:20171210T215351Z
UID:50362-1518894000-1518901200@montenegringuitarduo.com
SUMMARY:Peninsula Guitar Series: California
DESCRIPTION:
URL:https://montenegringuitarduo.com/tour-date/peninsula-guitar-series-california/
LOCATION:San Francisco\, California\, Belgium
CATEGORIES:Montenegrin Guitar Duo
END:VEVENT
BEGIN:VEVENT
DTSTART;TZID=Europe/London:20180216T200000
DTEND;TZID=Europe/London:20180216T220000
DTSTAMP:20260423T105503
CREATED:20171210T215351Z
LAST-MODIFIED:20171210T215351Z
UID:50359-1518811200-1518818400@montenegringuitarduo.com
SUMMARY:Minnesota Guitar Society: Minnesota
DESCRIPTION:
URL:https://montenegringuitarduo.com/tour-date/minnesota-guitar-society-minnesota/
LOCATION:Sundin Music Hall\, 1531 Hewitt Avenue\, Saint Paul\, Minnesota\, MN 5510\, USA
CATEGORIES:Montenegrin Guitar Duo
END:VEVENT
BEGIN:VEVENT
DTSTART;VALUE=DATE:20180212
DTEND;VALUE=DATE:20180216
DTSTAMP:20260423T105503
CREATED:20171210T215349Z
LAST-MODIFIED:20171210T215349Z
UID:50356-1518393600-1518739199@montenegringuitarduo.com
SUMMARY:Masters of Guitar Concert Series: North Dakota
DESCRIPTION:
URL:https://montenegringuitarduo.com/tour-date/masters-of-guitar-concert-series-north-dakota/
LOCATION:The Muiderman Theater\, 1410 Elm Coulee Drive\, North Dakota\, NE\, Thompson\, USA
CATEGORIES:Montenegrin Guitar Duo
END:VEVENT
BEGIN:VEVENT
DTSTART;TZID=Europe/London:20180210T200000
DTEND;TZID=Europe/London:20180210T220000
DTSTAMP:20260423T105503
CREATED:20171210T215348Z
LAST-MODIFIED:20171210T215348Z
UID:50353-1518292800-1518300000@montenegringuitarduo.com
SUMMARY:Winnipeg Classical Guitar Society: Manitoba
DESCRIPTION:
URL:https://montenegringuitarduo.com/tour-date/winnipeg-classical-guitar-society-manitoba-2/
LOCATION:Precious Blood Church\, 200 Kenny Strest\, Winnipeg\, Manitoba\, R2H 2E4\, Canada
CATEGORIES:Montenegrin Guitar Duo
END:VEVENT
BEGIN:VEVENT
DTSTART;VALUE=DATE:20180208
DTEND;VALUE=DATE:20180212
DTSTAMP:20260423T105503
CREATED:20171210T215348Z
LAST-MODIFIED:20171210T215348Z
UID:50351-1518048000-1518393599@montenegringuitarduo.com
SUMMARY:Winnipeg Classical Guitar Society: Manitoba
DESCRIPTION:Workshop in schoolsMasterclass at Manitoba University
URL:https://montenegringuitarduo.com/tour-date/winnipeg-classical-guitar-society-manitoba/
LOCATION:Winnipeg\, Winnipeg\, Manitoba\, Canada
CATEGORIES:Montenegrin Guitar Duo
END:VEVENT
BEGIN:VEVENT
DTSTART;VALUE=DATE:20180205
DTEND;VALUE=DATE:20180220
DTSTAMP:20260423T105503
CREATED:20171210T215347Z
LAST-MODIFIED:20171210T215347Z
UID:50348-1517788800-1519084799@montenegringuitarduo.com
SUMMARY:Tour: USA
DESCRIPTION:
URL:https://montenegringuitarduo.com/tour-date/tour-usa/
LOCATION:Madrid
CATEGORIES:Montenegrin Guitar Duo
END:VEVENT
BEGIN:VEVENT
DTSTART;TZID=Europe/London:20180129T200000
DTEND;TZID=Europe/London:20180129T220000
DTSTAMP:20260423T105503
CREATED:20180130T133354Z
LAST-MODIFIED:20180130T133354Z
UID:50584-1517256000-1517263200@montenegringuitarduo.com
SUMMARY:European Guitar Concerto Competition & Festival: Groningen
DESCRIPTION:
URL:https://montenegringuitarduo.com/tour-date/european-guitar-concerto-competition-festival-groningen-2/
LOCATION:Prince Claus Conservatoire\, Veemarktstraat 76\, Groningen\, 9724 GA\, Netherlands
CATEGORIES:Montenegrin Guitar Duo
END:VEVENT
BEGIN:VEVENT
DTSTART;VALUE=DATE:20180129
DTEND;VALUE=DATE:20180205
DTSTAMP:20260423T105503
CREATED:20171210T215347Z
LAST-MODIFIED:20171210T215347Z
UID:50347-1517184000-1517788799@montenegringuitarduo.com
SUMMARY:European Guitar Concerto Competition & Festival: Groningen
DESCRIPTION:The European Guitar Concerto Competition & Festival will be the biggest classical guitar event in the Netherlands\, held for the first time in Groningen from January 29th until February 4th\, 2018. The festival is an initiative of the Dutch Guitar Foundation\, which strives to promote classical guitar throughout the country. \nGoran and Daniel will be members of the competition jury as well as giving the opening concert.
URL:https://montenegringuitarduo.com/tour-date/european-guitar-concerto-competition-festival-groningen/
LOCATION:Prince Claus Conservatoire\, Veemarktstraat 76\, Groningen\, 9724 GA\, Netherlands
CATEGORIES:Montenegrin Guitar Duo
END:VEVENT
END:VCALENDAR