BEGIN:VCALENDAR
VERSION:2.0
PRODID:-//Montenegrin Guitar Duo - ECPv6.15.20//NONSGML v1.0//EN
CALSCALE:GREGORIAN
METHOD:PUBLISH
X-WR-CALNAME:Montenegrin Guitar Duo
X-ORIGINAL-URL:https://montenegringuitarduo.com
X-WR-CALDESC:Events for Montenegrin Guitar Duo
REFRESH-INTERVAL;VALUE=DURATION:PT1H
X-Robots-Tag:noindex
X-PUBLISHED-TTL:PT1H
BEGIN:VTIMEZONE
TZID:Europe/London
BEGIN:DAYLIGHT
TZOFFSETFROM:+0000
TZOFFSETTO:+0100
TZNAME:BST
DTSTART:20240331T010000
END:DAYLIGHT
BEGIN:STANDARD
TZOFFSETFROM:+0100
TZOFFSETTO:+0000
TZNAME:GMT
DTSTART:20241027T010000
END:STANDARD
BEGIN:DAYLIGHT
TZOFFSETFROM:+0000
TZOFFSETTO:+0100
TZNAME:BST
DTSTART:20250330T010000
END:DAYLIGHT
BEGIN:STANDARD
TZOFFSETFROM:+0100
TZOFFSETTO:+0000
TZNAME:GMT
DTSTART:20251026T010000
END:STANDARD
BEGIN:DAYLIGHT
TZOFFSETFROM:+0000
TZOFFSETTO:+0100
TZNAME:BST
DTSTART:20260329T010000
END:DAYLIGHT
BEGIN:STANDARD
TZOFFSETFROM:+0100
TZOFFSETTO:+0000
TZNAME:GMT
DTSTART:20261025T010000
END:STANDARD
END:VTIMEZONE
BEGIN:VEVENT
DTSTART;TZID=Europe/London:20250801T183000
DTEND;TZID=Europe/London:20250801T183000
DTSTAMP:20260424T174412
CREATED:20250619T183803Z
LAST-MODIFIED:20250629T095203Z
UID:54271-1754073000-1754073000@montenegringuitarduo.com
SUMMARY:Guiting Music Festival: Gloucestershire
DESCRIPTION:Johann Sebastian Bach\, arr. Montenegrin Guitar Duo: French Suite no. 2 in C minor\, BWV 813Fernando Sor: L’Encouragement\, op. 34Manuel De Falla: Danza del MolineroManuel De Falla\, arr. Gruber & Maklar: Danza Ritual del FuegoManuel De Falla: El Círculo MágicoIntervalŠimun Čarli Botica: Ex NihiloCarlo Domeniconi: Circus Music op. 54a for 2 guitarsAstor Piazzolla\, arr. Sergio Assad: Suite Troileana
URL:https://montenegringuitarduo.com/tour-date/guiting-music-festival-gloucestershire/
LOCATION:Guiting Power Village Hall\, Church Lane\, Guiting Power\, Gloucestershire\, GL54 5TX\, England
CATEGORIES:Montenegrin Guitar Duo
ATTACH;FMTTYPE=image/jpeg:https://montenegringuitarduo.com/wp-content/uploads/2024/01/Montenegrin_Guitar_Duo_Ref_3_Please_Credit_Shayne_Gray-SMed-yIX3J3.tmp_.jpg
END:VEVENT
END:VCALENDAR